BEGIN:VCALENDAR
VERSION:2.0
PRODID:-//Hargrave St. Market - ECPv6.15.7//NONSGML v1.0//EN
CALSCALE:GREGORIAN
METHOD:PUBLISH
X-ORIGINAL-URL:https://www.hargravestmarket.com
X-WR-CALDESC:Events for Hargrave St. Market
REFRESH-INTERVAL;VALUE=DURATION:PT1H
X-Robots-Tag:noindex
X-PUBLISHED-TTL:PT1H
BEGIN:VTIMEZONE
TZID:America/Winnipeg
BEGIN:DAYLIGHT
TZOFFSETFROM:-0600
TZOFFSETTO:-0500
TZNAME:CDT
DTSTART:20230312T080000
END:DAYLIGHT
BEGIN:STANDARD
TZOFFSETFROM:-0500
TZOFFSETTO:-0600
TZNAME:CST
DTSTART:20231105T070000
END:STANDARD
BEGIN:DAYLIGHT
TZOFFSETFROM:-0600
TZOFFSETTO:-0500
TZNAME:CDT
DTSTART:20240310T080000
END:DAYLIGHT
BEGIN:STANDARD
TZOFFSETFROM:-0500
TZOFFSETTO:-0600
TZNAME:CST
DTSTART:20241103T070000
END:STANDARD
BEGIN:DAYLIGHT
TZOFFSETFROM:-0600
TZOFFSETTO:-0500
TZNAME:CDT
DTSTART:20250309T080000
END:DAYLIGHT
BEGIN:STANDARD
TZOFFSETFROM:-0500
TZOFFSETTO:-0600
TZNAME:CST
DTSTART:20251102T070000
END:STANDARD
END:VTIMEZONE
BEGIN:VEVENT
DTSTART;TZID=America/Winnipeg:20240601T163000
DTEND;TZID=America/Winnipeg:20240601T183000
DTSTAMP:20260425T053952
CREATED:20240516T161253Z
LAST-MODIFIED:20240516T161253Z
UID:2307-1717259400-1717266600@www.hargravestmarket.com
SUMMARY:Who's Got Next - MNP Pre-Game Party
DESCRIPTION:
URL:https://www.hargravestmarket.com/event/whos-got-next-mnp-pre-game-party-2/
LOCATION:True North Square Plaza\, 242 Hargrave St.\, Winnipeg\, Manitoba\, R3C0T8\, Canada
END:VEVENT
BEGIN:VEVENT
DTSTART;TZID=America/Winnipeg:20240601T193000
DTEND;TZID=America/Winnipeg:20240601T193000
DTSTAMP:20260425T053952
CREATED:20240422T153613Z
LAST-MODIFIED:20240422T153613Z
UID:2281-1717270200-1717270200@www.hargravestmarket.com
SUMMARY:Sea Bears vs. BlackJacks
DESCRIPTION:
URL:https://www.hargravestmarket.com/event/sea-bears-vs-blackjacks/
LOCATION:Canada Life Centre
END:VEVENT
BEGIN:VEVENT
DTSTART;TZID=America/Winnipeg:20240607T190000
DTEND;TZID=America/Winnipeg:20240607T190000
DTSTAMP:20260425T053952
CREATED:20240422T152628Z
LAST-MODIFIED:20240422T152628Z
UID:2271-1717786800-1717786800@www.hargravestmarket.com
SUMMARY:Flatlanders Beer Festival
DESCRIPTION:
URL:https://www.hargravestmarket.com/event/flatlanders-beer-festival/
LOCATION:Canada Life Centre
END:VEVENT
BEGIN:VEVENT
DTSTART;TZID=America/Winnipeg:20240608T130000
DTEND;TZID=America/Winnipeg:20240608T130000
DTSTAMP:20260425T053952
CREATED:20240422T152711Z
LAST-MODIFIED:20240422T152711Z
UID:2273-1717851600-1717851600@www.hargravestmarket.com
SUMMARY:Flatlanders Beer Festival
DESCRIPTION:
URL:https://www.hargravestmarket.com/event/flatlanders-beer-festival-2/
LOCATION:Canada Life Centre
END:VEVENT
BEGIN:VEVENT
DTSTART;TZID=America/Winnipeg:20240608T190000
DTEND;TZID=America/Winnipeg:20240608T190000
DTSTAMP:20260425T053952
CREATED:20240422T152804Z
LAST-MODIFIED:20240422T152804Z
UID:2275-1717873200-1717873200@www.hargravestmarket.com
SUMMARY:Flatlanders Beer Festival
DESCRIPTION:
URL:https://www.hargravestmarket.com/event/flatlanders-beer-festival-3/
LOCATION:Canada Life Centre
END:VEVENT
BEGIN:VEVENT
DTSTART;TZID=America/Winnipeg:20240612T153000
DTEND;TZID=America/Winnipeg:20240612T190000
DTSTAMP:20260425T053952
CREATED:20240606T185404Z
LAST-MODIFIED:20240606T185404Z
UID:2355-1718206200-1718218800@www.hargravestmarket.com
SUMMARY:IG Summer Sizzle - Private Event in the Plaza
DESCRIPTION:
URL:https://www.hargravestmarket.com/event/ig-summer-sizzle-private-event-in-the-plaza/
LOCATION:True North Square Plaza\, 242 Hargrave St.\, Winnipeg\, Manitoba\, R3C0T8\, Canada
END:VEVENT
BEGIN:VEVENT
DTSTART;TZID=America/Winnipeg:20240616T113000
DTEND;TZID=America/Winnipeg:20240616T130000
DTSTAMP:20260425T053952
CREATED:20240516T161341Z
LAST-MODIFIED:20240516T161414Z
UID:2309-1718537400-1718542800@www.hargravestmarket.com
SUMMARY:Who's Got Next - MNP Pre-Game Party
DESCRIPTION:
URL:https://www.hargravestmarket.com/event/whos-got-next-mnp-pre-game-party-3/
LOCATION:True North Square Plaza\, 242 Hargrave St.\, Winnipeg\, Manitoba\, R3C0T8\, Canada
END:VEVENT
BEGIN:VEVENT
DTSTART;TZID=America/Winnipeg:20240616T140000
DTEND;TZID=America/Winnipeg:20240616T140000
DTSTAMP:20260425T053952
CREATED:20240422T153732Z
LAST-MODIFIED:20240422T153732Z
UID:2283-1718546400-1718546400@www.hargravestmarket.com
SUMMARY:Sea Bears vs. Stingers
DESCRIPTION:
URL:https://www.hargravestmarket.com/event/sea-bears-vs-stingers-2/
LOCATION:Canada Life Centre
END:VEVENT
BEGIN:VEVENT
DTSTART;TZID=America/Winnipeg:20240617T190000
DTEND;TZID=America/Winnipeg:20240617T190000
DTSTAMP:20260425T053952
CREATED:20240422T152951Z
LAST-MODIFIED:20240422T152951Z
UID:2277-1718650800-1718650800@www.hargravestmarket.com
SUMMARY:Snoop Dogg Concert
DESCRIPTION:
URL:https://www.hargravestmarket.com/event/snoop-dogg-concert/
LOCATION:Canada Life Centre
END:VEVENT
BEGIN:VEVENT
DTSTART;TZID=America/Winnipeg:20240619T163000
DTEND;TZID=America/Winnipeg:20240619T180000
DTSTAMP:20260425T053952
CREATED:20240516T161630Z
LAST-MODIFIED:20240516T161630Z
UID:2313-1718814600-1718820000@www.hargravestmarket.com
SUMMARY:Who's Got Next - MNP Pre-Game Party
DESCRIPTION:
URL:https://www.hargravestmarket.com/event/whos-got-next-mnp-pre-game-party-5/
LOCATION:True North Square Plaza\, 242 Hargrave St.\, Winnipeg\, Manitoba\, R3C0T8\, Canada
END:VEVENT
BEGIN:VEVENT
DTSTART;TZID=America/Winnipeg:20240619T190000
DTEND;TZID=America/Winnipeg:20240619T190000
DTSTAMP:20260425T053952
CREATED:20240422T153838Z
LAST-MODIFIED:20240422T153838Z
UID:2285-1718823600-1718823600@www.hargravestmarket.com
SUMMARY:Sea Bears vs. Bandits
DESCRIPTION:
URL:https://www.hargravestmarket.com/event/sea-bears-vs-bandits-2/
LOCATION:Canada Life Centre
END:VEVENT
BEGIN:VEVENT
DTSTART;TZID=America/Winnipeg:20240627T163000
DTEND;TZID=America/Winnipeg:20240627T180000
DTSTAMP:20260425T053952
CREATED:20240516T161744Z
LAST-MODIFIED:20240516T161744Z
UID:2315-1719505800-1719511200@www.hargravestmarket.com
SUMMARY:Who's Got Next - MNP Pre-Game Party
DESCRIPTION:
URL:https://www.hargravestmarket.com/event/whos-got-next-mnp-pre-game-party-6/
LOCATION:True North Square Plaza\, 242 Hargrave St.\, Winnipeg\, Manitoba\, R3C0T8\, Canada
END:VEVENT
BEGIN:VEVENT
DTSTART;TZID=America/Winnipeg:20240627T190000
DTEND;TZID=America/Winnipeg:20240627T190000
DTSTAMP:20260425T053952
CREATED:20240422T155333Z
LAST-MODIFIED:20240422T155333Z
UID:2288-1719514800-1719514800@www.hargravestmarket.com
SUMMARY:Sea Bears vs. River Lions
DESCRIPTION:
URL:https://www.hargravestmarket.com/event/sea-bears-vs-river-lions-2/
LOCATION:Canada Life Centre
END:VEVENT
BEGIN:VEVENT
DTSTART;TZID=America/Winnipeg:20240630T160000
DTEND;TZID=America/Winnipeg:20240630T200000
DTSTAMP:20260425T053952
CREATED:20240516T162346Z
LAST-MODIFIED:20240626T025951Z
UID:2325-1719763200-1719777600@www.hargravestmarket.com
SUMMARY:Salsa Sundays
DESCRIPTION:
URL:https://www.hargravestmarket.com/event/salsa-sundays-9/
LOCATION:True North Square Plaza\, 242 Hargrave St.\, Winnipeg\, Manitoba\, R3C0T8\, Canada
END:VEVENT
END:VCALENDAR