BEGIN:VCALENDAR
VERSION:2.0
PRODID:-//Hargrave St. Market - ECPv6.15.7//NONSGML v1.0//EN
CALSCALE:GREGORIAN
METHOD:PUBLISH
X-ORIGINAL-URL:https://www.hargravestmarket.com
X-WR-CALDESC:Events for Hargrave St. Market
REFRESH-INTERVAL;VALUE=DURATION:PT1H
X-Robots-Tag:noindex
X-PUBLISHED-TTL:PT1H
BEGIN:VTIMEZONE
TZID:America/Winnipeg
BEGIN:DAYLIGHT
TZOFFSETFROM:-0600
TZOFFSETTO:-0500
TZNAME:CDT
DTSTART:20230312T080000
END:DAYLIGHT
BEGIN:STANDARD
TZOFFSETFROM:-0500
TZOFFSETTO:-0600
TZNAME:CST
DTSTART:20231105T070000
END:STANDARD
BEGIN:DAYLIGHT
TZOFFSETFROM:-0600
TZOFFSETTO:-0500
TZNAME:CDT
DTSTART:20240310T080000
END:DAYLIGHT
BEGIN:STANDARD
TZOFFSETFROM:-0500
TZOFFSETTO:-0600
TZNAME:CST
DTSTART:20241103T070000
END:STANDARD
BEGIN:DAYLIGHT
TZOFFSETFROM:-0600
TZOFFSETTO:-0500
TZNAME:CDT
DTSTART:20250309T080000
END:DAYLIGHT
BEGIN:STANDARD
TZOFFSETFROM:-0500
TZOFFSETTO:-0600
TZNAME:CST
DTSTART:20251102T070000
END:STANDARD
END:VTIMEZONE
BEGIN:VEVENT
DTSTART;TZID=America/Winnipeg:20240501T183000
DTEND;TZID=America/Winnipeg:20240501T183000
DTSTAMP:20260425T053952
CREATED:20240422T152210Z
LAST-MODIFIED:20240422T152210Z
UID:2265-1714588200-1714588200@www.hargravestmarket.com
SUMMARY:AEW
DESCRIPTION:
URL:https://www.hargravestmarket.com/event/aew-2/
LOCATION:Canada Life Centre
END:VEVENT
BEGIN:VEVENT
DTSTART;TZID=America/Winnipeg:20240503T200000
DTEND;TZID=America/Winnipeg:20240503T200000
DTSTAMP:20260425T053952
CREATED:20240422T152408Z
LAST-MODIFIED:20240422T152408Z
UID:2267-1714766400-1714766400@www.hargravestmarket.com
SUMMARY:Diljit Dosnajh Concert
DESCRIPTION:
URL:https://www.hargravestmarket.com/event/diljit-dosnajh-concert/
LOCATION:Canada Life Centre
END:VEVENT
BEGIN:VEVENT
DTSTART;TZID=America/Winnipeg:20240516T193000
DTEND;TZID=America/Winnipeg:20240516T193000
DTSTAMP:20260425T053952
CREATED:20240422T152534Z
LAST-MODIFIED:20240422T152534Z
UID:2269-1715887800-1715887800@www.hargravestmarket.com
SUMMARY:Foreigner Concert
DESCRIPTION:
URL:https://www.hargravestmarket.com/event/foreigner-concert/
LOCATION:Canada Life Centre
END:VEVENT
BEGIN:VEVENT
DTSTART;TZID=America/Winnipeg:20240524T163000
DTEND;TZID=America/Winnipeg:20240524T183000
DTSTAMP:20260425T053952
CREATED:20240516T161201Z
LAST-MODIFIED:20240516T161201Z
UID:2305-1716568200-1716575400@www.hargravestmarket.com
SUMMARY:Who's Got Next - MNP Pre-Game Party
DESCRIPTION:
URL:https://www.hargravestmarket.com/event/whos-got-next-mnp-pre-game-party/
LOCATION:True North Square Plaza\, 242 Hargrave St.\, Winnipeg\, Manitoba\, R3C0T8\, Canada
END:VEVENT
BEGIN:VEVENT
DTSTART;TZID=America/Winnipeg:20240524T193000
DTEND;TZID=America/Winnipeg:20240524T193000
DTSTAMP:20260425T053952
CREATED:20240422T153220Z
LAST-MODIFIED:20240422T153220Z
UID:2279-1716579000-1716579000@www.hargravestmarket.com
SUMMARY:Sea Bears vs. Shooting Stars
DESCRIPTION:
URL:https://www.hargravestmarket.com/event/sea-bears-vs-shooting-stars/
LOCATION:Canada Life Centre
END:VEVENT
END:VCALENDAR