BEGIN:VCALENDAR
VERSION:2.0
PRODID:-//Hargrave St. Market - ECPv6.15.7//NONSGML v1.0//EN
CALSCALE:GREGORIAN
METHOD:PUBLISH
X-ORIGINAL-URL:https://www.hargravestmarket.com
X-WR-CALDESC:Events for Hargrave St. Market
REFRESH-INTERVAL;VALUE=DURATION:PT1H
X-Robots-Tag:noindex
X-PUBLISHED-TTL:PT1H
BEGIN:VTIMEZONE
TZID:America/Winnipeg
BEGIN:DAYLIGHT
TZOFFSETFROM:-0600
TZOFFSETTO:-0500
TZNAME:CDT
DTSTART:20230312T080000
END:DAYLIGHT
BEGIN:STANDARD
TZOFFSETFROM:-0500
TZOFFSETTO:-0600
TZNAME:CST
DTSTART:20231105T070000
END:STANDARD
BEGIN:DAYLIGHT
TZOFFSETFROM:-0600
TZOFFSETTO:-0500
TZNAME:CDT
DTSTART:20240310T080000
END:DAYLIGHT
BEGIN:STANDARD
TZOFFSETFROM:-0500
TZOFFSETTO:-0600
TZNAME:CST
DTSTART:20241103T070000
END:STANDARD
BEGIN:DAYLIGHT
TZOFFSETFROM:-0600
TZOFFSETTO:-0500
TZNAME:CDT
DTSTART:20250309T080000
END:DAYLIGHT
BEGIN:STANDARD
TZOFFSETFROM:-0500
TZOFFSETTO:-0600
TZNAME:CST
DTSTART:20251102T070000
END:STANDARD
END:VTIMEZONE
BEGIN:VEVENT
DTSTART;TZID=America/Winnipeg:20240203T130000
DTEND;TZID=America/Winnipeg:20240203T130000
DTSTAMP:20260425T053953
CREATED:20231215T205745Z
LAST-MODIFIED:20231215T205745Z
UID:2147-1706965200-1706965200@www.hargravestmarket.com
SUMMARY:RAM Motorsports Spectacular
DESCRIPTION:
URL:https://www.hargravestmarket.com/event/ram-motorsports-spectacular-4/
LOCATION:Canada Life Centre
END:VEVENT
BEGIN:VEVENT
DTSTART;TZID=America/Winnipeg:20240203T140000
DTEND;TZID=America/Winnipeg:20240203T160000
DTSTAMP:20260425T053953
CREATED:20240201T192752Z
LAST-MODIFIED:20240201T192752Z
UID:2210-1706968800-1706976000@www.hargravestmarket.com
SUMMARY:Wacky Doodle Dance Party
DESCRIPTION:
URL:https://www.hargravestmarket.com/event/wacky-doodle-dance-party-6/
LOCATION:Hargrave St. Market\, 242 Hargrave Street\, Winnipeg\, Manitoba\, Canada
END:VEVENT
BEGIN:VEVENT
DTSTART;TZID=America/Winnipeg:20240203T190000
DTEND;TZID=America/Winnipeg:20240203T190000
DTSTAMP:20260425T053953
CREATED:20231215T205829Z
LAST-MODIFIED:20231215T205829Z
UID:2149-1706986800-1706986800@www.hargravestmarket.com
SUMMARY:RAM Motorsports Spectacular
DESCRIPTION:
URL:https://www.hargravestmarket.com/event/ram-motorsports-spectacular-5/
LOCATION:Canada Life Centre
END:VEVENT
BEGIN:VEVENT
DTSTART;TZID=America/Winnipeg:20240204T140000
DTEND;TZID=America/Winnipeg:20240204T140000
DTSTAMP:20260425T053953
CREATED:20231215T205906Z
LAST-MODIFIED:20231215T205906Z
UID:2151-1707055200-1707055200@www.hargravestmarket.com
SUMMARY:RAM Motorsports Spectacular
DESCRIPTION:
URL:https://www.hargravestmarket.com/event/ram-motorsports-spectacular-6/
LOCATION:Canada Life Centre
END:VEVENT
BEGIN:VEVENT
DTSTART;TZID=America/Winnipeg:20240210T180000
DTEND;TZID=America/Winnipeg:20240210T180000
DTSTAMP:20260425T053953
CREATED:20231215T210025Z
LAST-MODIFIED:20231215T210025Z
UID:2153-1707588000-1707588000@www.hargravestmarket.com
SUMMARY:Jets vs. Pittsburgh
DESCRIPTION:
URL:https://www.hargravestmarket.com/event/jets-vs-pittsburgh/
LOCATION:Canada Life Centre
END:VEVENT
BEGIN:VEVENT
DTSTART;TZID=America/Winnipeg:20240214T183000
DTEND;TZID=America/Winnipeg:20240214T183000
DTSTAMP:20260425T053953
CREATED:20231215T210102Z
LAST-MODIFIED:20231215T210102Z
UID:2155-1707935400-1707935400@www.hargravestmarket.com
SUMMARY:Jets vs. San Jose
DESCRIPTION:
URL:https://www.hargravestmarket.com/event/jets-vs-san-jose-3/
LOCATION:Canada Life Centre
END:VEVENT
BEGIN:VEVENT
DTSTART;TZID=America/Winnipeg:20240215T190000
DTEND;TZID=America/Winnipeg:20240215T190000
DTSTAMP:20260425T053953
CREATED:20231215T210149Z
LAST-MODIFIED:20231215T210149Z
UID:2157-1708023600-1708023600@www.hargravestmarket.com
SUMMARY:City & Colour Concert
DESCRIPTION:
URL:https://www.hargravestmarket.com/event/city-colour-concert/
LOCATION:Canada Life Centre
END:VEVENT
BEGIN:VEVENT
DTSTART;TZID=America/Winnipeg:20240216T190000
DTEND;TZID=America/Winnipeg:20240216T190000
DTSTAMP:20260425T053953
CREATED:20231215T210231Z
LAST-MODIFIED:20231215T210231Z
UID:2159-1708110000-1708110000@www.hargravestmarket.com
SUMMARY:PANTERA Concert
DESCRIPTION:
URL:https://www.hargravestmarket.com/event/pantera-concert/
LOCATION:Canada Life Centre
END:VEVENT
BEGIN:VEVENT
DTSTART;TZID=America/Winnipeg:20240217T140000
DTEND;TZID=America/Winnipeg:20240217T140000
DTSTAMP:20260425T053953
CREATED:20231215T210344Z
LAST-MODIFIED:20231215T210344Z
UID:2161-1708178400-1708178400@www.hargravestmarket.com
SUMMARY:Moose vs. Milwaukee
DESCRIPTION:
URL:https://www.hargravestmarket.com/event/moose-vs-milwaukee-7/
LOCATION:Canada Life Centre
END:VEVENT
BEGIN:VEVENT
DTSTART;TZID=America/Winnipeg:20240219T140000
DTEND;TZID=America/Winnipeg:20240219T140000
DTSTAMP:20260425T053953
CREATED:20231215T210447Z
LAST-MODIFIED:20231215T210447Z
UID:2164-1708351200-1708351200@www.hargravestmarket.com
SUMMARY:Moose vs. Milwaukee
DESCRIPTION:
URL:https://www.hargravestmarket.com/event/moose-vs-milwaukee-8/
LOCATION:Canada Life Centre
END:VEVENT
BEGIN:VEVENT
DTSTART;TZID=America/Winnipeg:20240220T190000
DTEND;TZID=America/Winnipeg:20240220T190000
DTSTAMP:20260425T053953
CREATED:20231215T210538Z
LAST-MODIFIED:20231215T210538Z
UID:2166-1708455600-1708455600@www.hargravestmarket.com
SUMMARY:Jets vs. Minnesota
DESCRIPTION:
URL:https://www.hargravestmarket.com/event/jets-vs-minnesota-4/
LOCATION:Canada Life Centre
END:VEVENT
BEGIN:VEVENT
DTSTART;TZID=America/Winnipeg:20240223T190000
DTEND;TZID=America/Winnipeg:20240223T190000
DTSTAMP:20260425T053953
CREATED:20231215T210623Z
LAST-MODIFIED:20231215T210623Z
UID:2168-1708714800-1708714800@www.hargravestmarket.com
SUMMARY:Moose vs. Calgary
DESCRIPTION:
URL:https://www.hargravestmarket.com/event/moose-vs-calgary-3/
LOCATION:Canada Life Centre
END:VEVENT
BEGIN:VEVENT
DTSTART;TZID=America/Winnipeg:20240224T180000
DTEND;TZID=America/Winnipeg:20240224T180000
DTSTAMP:20260425T053953
CREATED:20231215T210733Z
LAST-MODIFIED:20231215T210733Z
UID:2170-1708797600-1708797600@www.hargravestmarket.com
SUMMARY:Moose vs. Calgary
DESCRIPTION:
URL:https://www.hargravestmarket.com/event/moose-vs-calgary-4/
LOCATION:Canada Life Centre
END:VEVENT
BEGIN:VEVENT
DTSTART;TZID=America/Winnipeg:20240225T170000
DTEND;TZID=America/Winnipeg:20240225T170000
DTSTAMP:20260425T053953
CREATED:20231215T210849Z
LAST-MODIFIED:20231215T210849Z
UID:2172-1708880400-1708880400@www.hargravestmarket.com
SUMMARY:Jets vs. Arizona
DESCRIPTION:
URL:https://www.hargravestmarket.com/event/jets-vs-arizona-4/
LOCATION:Canada Life Centre
END:VEVENT
BEGIN:VEVENT
DTSTART;TZID=America/Winnipeg:20240227T190000
DTEND;TZID=America/Winnipeg:20240227T190000
DTSTAMP:20260425T053953
CREATED:20231215T210933Z
LAST-MODIFIED:20231215T210933Z
UID:2174-1709060400-1709060400@www.hargravestmarket.com
SUMMARY:Jets vs. St. Louis
DESCRIPTION:
URL:https://www.hargravestmarket.com/event/jets-vs-st-louis-3/
LOCATION:Canada Life Centre
END:VEVENT
BEGIN:VEVENT
DTSTART;TZID=America/Winnipeg:20240228T193000
DTEND;TZID=America/Winnipeg:20240228T193000
DTSTAMP:20260425T053953
CREATED:20231215T211013Z
LAST-MODIFIED:20231215T211013Z
UID:2176-1709148600-1709148600@www.hargravestmarket.com
SUMMARY:Ice Cube Concert
DESCRIPTION:
URL:https://www.hargravestmarket.com/event/ice-cube-concert/
LOCATION:Canada Life Centre
END:VEVENT
END:VCALENDAR