BEGIN:VCALENDAR
VERSION:2.0
PRODID:-//Hargrave St. Market - ECPv6.15.7//NONSGML v1.0//EN
CALSCALE:GREGORIAN
METHOD:PUBLISH
X-WR-CALNAME:Hargrave St. Market
X-ORIGINAL-URL:https://www.hargravestmarket.com
X-WR-CALDESC:Events for Hargrave St. Market
REFRESH-INTERVAL;VALUE=DURATION:PT1H
X-Robots-Tag:noindex
X-PUBLISHED-TTL:PT1H
BEGIN:VTIMEZONE
TZID:America/Winnipeg
BEGIN:DAYLIGHT
TZOFFSETFROM:-0600
TZOFFSETTO:-0500
TZNAME:CDT
DTSTART:20230312T080000
END:DAYLIGHT
BEGIN:STANDARD
TZOFFSETFROM:-0500
TZOFFSETTO:-0600
TZNAME:CST
DTSTART:20231105T070000
END:STANDARD
BEGIN:DAYLIGHT
TZOFFSETFROM:-0600
TZOFFSETTO:-0500
TZNAME:CDT
DTSTART:20240310T080000
END:DAYLIGHT
BEGIN:STANDARD
TZOFFSETFROM:-0500
TZOFFSETTO:-0600
TZNAME:CST
DTSTART:20241103T070000
END:STANDARD
BEGIN:DAYLIGHT
TZOFFSETFROM:-0600
TZOFFSETTO:-0500
TZNAME:CDT
DTSTART:20250309T080000
END:DAYLIGHT
BEGIN:STANDARD
TZOFFSETFROM:-0500
TZOFFSETTO:-0600
TZNAME:CST
DTSTART:20251102T070000
END:STANDARD
END:VTIMEZONE
BEGIN:VEVENT
DTSTART;TZID=America/Winnipeg:20240102T190000
DTEND;TZID=America/Winnipeg:20240102T190000
DTSTAMP:20260425T081127
CREATED:20231117T184626Z
LAST-MODIFIED:20231117T184626Z
UID:2123-1704222000-1704222000@www.hargravestmarket.com
SUMMARY:Jets vs. Tampa Bay
DESCRIPTION:
URL:https://www.hargravestmarket.com/event/jets-vs-tampa-bay-2/
LOCATION:Canada Life Centre
END:VEVENT
BEGIN:VEVENT
DTSTART;TZID=America/Winnipeg:20240106T140000
DTEND;TZID=America/Winnipeg:20240106T140000
DTSTAMP:20260425T081127
CREATED:20231117T184735Z
LAST-MODIFIED:20231117T184735Z
UID:2125-1704549600-1704549600@www.hargravestmarket.com
SUMMARY:Moose vs. Belleville
DESCRIPTION:
URL:https://www.hargravestmarket.com/event/moose-vs-belleville/
LOCATION:Canada Life Centre
END:VEVENT
BEGIN:VEVENT
DTSTART;TZID=America/Winnipeg:20240107T140000
DTEND;TZID=America/Winnipeg:20240107T140000
DTSTAMP:20260425T081127
CREATED:20231117T185218Z
LAST-MODIFIED:20231117T185218Z
UID:2127-1704636000-1704636000@www.hargravestmarket.com
SUMMARY:Moose vs. Belleville
DESCRIPTION:
URL:https://www.hargravestmarket.com/event/moose-vs-belleville-2/
LOCATION:Canada Life Centre
END:VEVENT
BEGIN:VEVENT
DTSTART;TZID=America/Winnipeg:20240109T190000
DTEND;TZID=America/Winnipeg:20240109T190000
DTSTAMP:20260425T081127
CREATED:20231117T185300Z
LAST-MODIFIED:20231117T185300Z
UID:2129-1704826800-1704826800@www.hargravestmarket.com
SUMMARY:Jets vs. Columbus
DESCRIPTION:
URL:https://www.hargravestmarket.com/event/jets-vs-columbus-2/
LOCATION:Canada Life Centre
END:VEVENT
BEGIN:VEVENT
DTSTART;TZID=America/Winnipeg:20240111T190000
DTEND;TZID=America/Winnipeg:20240111T190000
DTSTAMP:20260425T081127
CREATED:20231117T185337Z
LAST-MODIFIED:20231117T185337Z
UID:2131-1704999600-1704999600@www.hargravestmarket.com
SUMMARY:Jets vs. Chicago
DESCRIPTION:
URL:https://www.hargravestmarket.com/event/jets-vs-chicago-3/
LOCATION:Canada Life Centre
END:VEVENT
BEGIN:VEVENT
DTSTART;TZID=America/Winnipeg:20240113T180000
DTEND;TZID=America/Winnipeg:20240113T180000
DTSTAMP:20260425T081127
CREATED:20231117T185431Z
LAST-MODIFIED:20231117T185431Z
UID:2133-1705168800-1705168800@www.hargravestmarket.com
SUMMARY:Jets vs. Philadelphia
DESCRIPTION:
URL:https://www.hargravestmarket.com/event/jets-vs-philadelphia-2/
LOCATION:Canada Life Centre
END:VEVENT
BEGIN:VEVENT
DTSTART;TZID=America/Winnipeg:20240116T190000
DTEND;TZID=America/Winnipeg:20240116T190000
DTSTAMP:20260425T081127
CREATED:20231117T185557Z
LAST-MODIFIED:20231117T185557Z
UID:2135-1705431600-1705431600@www.hargravestmarket.com
SUMMARY:Jets vs. New York Islanders
DESCRIPTION:
URL:https://www.hargravestmarket.com/event/jets-vs-new-york-islanders-2/
LOCATION:Canada Life Centre
END:VEVENT
BEGIN:VEVENT
DTSTART;TZID=America/Winnipeg:20240119T190000
DTEND;TZID=America/Winnipeg:20240119T190000
DTSTAMP:20260425T081127
CREATED:20231117T185647Z
LAST-MODIFIED:20231117T185647Z
UID:2137-1705690800-1705690800@www.hargravestmarket.com
SUMMARY:Moose vs. Grand Rapids
DESCRIPTION:
URL:https://www.hargravestmarket.com/event/moose-vs-grand-rapids-5/
LOCATION:Canada Life Centre
END:VEVENT
BEGIN:VEVENT
DTSTART;TZID=America/Winnipeg:20240120T180000
DTEND;TZID=America/Winnipeg:20240120T180000
DTSTAMP:20260425T081127
CREATED:20231117T185729Z
LAST-MODIFIED:20231117T185729Z
UID:2139-1705773600-1705773600@www.hargravestmarket.com
SUMMARY:Moose vs. Grand Rapids
DESCRIPTION:
URL:https://www.hargravestmarket.com/event/moose-vs-grand-rapids-6/
LOCATION:Canada Life Centre
END:VEVENT
BEGIN:VEVENT
DTSTART;TZID=America/Winnipeg:20240123T190000
DTEND;TZID=America/Winnipeg:20240123T190000
DTSTAMP:20260425T081127
CREATED:20231117T190007Z
LAST-MODIFIED:20231117T190007Z
UID:2141-1706036400-1706036400@www.hargravestmarket.com
SUMMARY:Moose vs. Chicago
DESCRIPTION:
URL:https://www.hargravestmarket.com/event/moose-vs-chicago-5/
LOCATION:Canada Life Centre
END:VEVENT
BEGIN:VEVENT
DTSTART;TZID=America/Winnipeg:20240124T190000
DTEND;TZID=America/Winnipeg:20240124T190000
DTSTAMP:20260425T081127
CREATED:20231117T190041Z
LAST-MODIFIED:20231117T190041Z
UID:2143-1706122800-1706122800@www.hargravestmarket.com
SUMMARY:Moose vs. Chicago
DESCRIPTION:
URL:https://www.hargravestmarket.com/event/moose-vs-chicago-6/
LOCATION:Canada Life Centre
END:VEVENT
BEGIN:VEVENT
DTSTART;TZID=America/Winnipeg:20240127T180000
DTEND;TZID=America/Winnipeg:20240127T180000
DTSTAMP:20260425T081127
CREATED:20231117T190304Z
LAST-MODIFIED:20231117T190304Z
UID:2145-1706378400-1706378400@www.hargravestmarket.com
SUMMARY:Jets vs. Toronto
DESCRIPTION:
URL:https://www.hargravestmarket.com/event/jets-vs-toronto/
LOCATION:Canada Life Centre
END:VEVENT
END:VCALENDAR