BEGIN:VCALENDAR
VERSION:2.0
PRODID:-//Hargrave St. Market - ECPv6.15.7//NONSGML v1.0//EN
CALSCALE:GREGORIAN
METHOD:PUBLISH
X-ORIGINAL-URL:https://www.hargravestmarket.com
X-WR-CALDESC:Events for Hargrave St. Market
REFRESH-INTERVAL;VALUE=DURATION:PT1H
X-Robots-Tag:noindex
X-PUBLISHED-TTL:PT1H
BEGIN:VTIMEZONE
TZID:America/Winnipeg
BEGIN:DAYLIGHT
TZOFFSETFROM:-0600
TZOFFSETTO:-0500
TZNAME:CDT
DTSTART:20220313T080000
END:DAYLIGHT
BEGIN:STANDARD
TZOFFSETFROM:-0500
TZOFFSETTO:-0600
TZNAME:CST
DTSTART:20221106T070000
END:STANDARD
BEGIN:DAYLIGHT
TZOFFSETFROM:-0600
TZOFFSETTO:-0500
TZNAME:CDT
DTSTART:20230312T080000
END:DAYLIGHT
BEGIN:STANDARD
TZOFFSETFROM:-0500
TZOFFSETTO:-0600
TZNAME:CST
DTSTART:20231105T070000
END:STANDARD
BEGIN:DAYLIGHT
TZOFFSETFROM:-0600
TZOFFSETTO:-0500
TZNAME:CDT
DTSTART:20240310T080000
END:DAYLIGHT
BEGIN:STANDARD
TZOFFSETFROM:-0500
TZOFFSETTO:-0600
TZNAME:CST
DTSTART:20241103T070000
END:STANDARD
END:VTIMEZONE
BEGIN:VEVENT
DTSTART;TZID=America/Winnipeg:20230602T190000
DTEND;TZID=America/Winnipeg:20230602T190000
DTSTAMP:20260424T111330
CREATED:20230418T163201Z
LAST-MODIFIED:20230512T210445Z
UID:1659-1685732400-1685732400@www.hargravestmarket.com
SUMMARY:Flatlanders Beer Fest
DESCRIPTION:
URL:https://www.hargravestmarket.com/event/flatlanders-beer-fest/
LOCATION:Canada Life Centre
END:VEVENT
BEGIN:VEVENT
DTSTART;TZID=America/Winnipeg:20230603T130000
DTEND;TZID=America/Winnipeg:20230603T130000
DTSTAMP:20260424T111330
CREATED:20230418T163246Z
LAST-MODIFIED:20230512T210411Z
UID:1661-1685797200-1685797200@www.hargravestmarket.com
SUMMARY:Flatlanders Beer Fest
DESCRIPTION:
URL:https://www.hargravestmarket.com/event/flatlanders-beer-fest-2/
LOCATION:Canada Life Centre
END:VEVENT
BEGIN:VEVENT
DTSTART;TZID=America/Winnipeg:20230603T190000
DTEND;TZID=America/Winnipeg:20230603T190000
DTSTAMP:20260424T111330
CREATED:20230418T163312Z
LAST-MODIFIED:20230512T210335Z
UID:1663-1685818800-1685818800@www.hargravestmarket.com
SUMMARY:Flatlanders Beer Fest
DESCRIPTION:
URL:https://www.hargravestmarket.com/event/flatlanders-beer-fest-3/
LOCATION:Canada Life Centre
END:VEVENT
BEGIN:VEVENT
DTSTART;TZID=America/Winnipeg:20230608T170000
DTEND;TZID=America/Winnipeg:20230608T190000
DTSTAMP:20260424T111330
CREATED:20230608T213822Z
LAST-MODIFIED:20230608T213822Z
UID:1839-1686243600-1686250800@www.hargravestmarket.com
SUMMARY:Duelling Pianos
DESCRIPTION:
URL:https://www.hargravestmarket.com/event/duelling-pianos/
LOCATION:True North Square Plaza\, 242 Hargrave St.\, Winnipeg\, Manitoba\, R3C0T8\, Canada
END:VEVENT
BEGIN:VEVENT
DTSTART;TZID=America/Winnipeg:20230612T080000
DTEND;TZID=America/Winnipeg:20230612T170000
DTSTAMP:20260424T111330
CREATED:20230608T213920Z
LAST-MODIFIED:20230608T214540Z
UID:1841-1686556800-1686589200@www.hargravestmarket.com
SUMMARY:Sea Bears Pre-Game Party
DESCRIPTION:
URL:https://www.hargravestmarket.com/event/sea-bears-pre-game-party/
LOCATION:True North Square Plaza\, 242 Hargrave St.\, Winnipeg\, Manitoba\, R3C0T8\, Canada
END:VEVENT
BEGIN:VEVENT
DTSTART;TZID=America/Winnipeg:20230612T190000
DTEND;TZID=America/Winnipeg:20230612T190000
DTSTAMP:20260424T111330
CREATED:20230418T163402Z
LAST-MODIFIED:20230512T210310Z
UID:1665-1686596400-1686596400@www.hargravestmarket.com
SUMMARY:Sea Bears vs. Stingers
DESCRIPTION:
URL:https://www.hargravestmarket.com/event/sea-bears-vs-stingers/
LOCATION:Canada Life Centre
END:VEVENT
BEGIN:VEVENT
DTSTART;TZID=America/Winnipeg:20230613T170000
DTEND;TZID=America/Winnipeg:20230613T190000
DTSTAMP:20260424T111330
CREATED:20230608T214031Z
LAST-MODIFIED:20230608T214031Z
UID:1843-1686675600-1686682800@www.hargravestmarket.com
SUMMARY:Duelling Pianos
DESCRIPTION:
URL:https://www.hargravestmarket.com/event/duelling-pianos-2/
LOCATION:True North Square Plaza\, 242 Hargrave St.\, Winnipeg\, Manitoba\, R3C0T8\, Canada
END:VEVENT
BEGIN:VEVENT
DTSTART;TZID=America/Winnipeg:20230615T163000
DTEND;TZID=America/Winnipeg:20230615T163000
DTSTAMP:20260424T111330
CREATED:20230608T214123Z
LAST-MODIFIED:20230608T214123Z
UID:1845-1686846600-1686846600@www.hargravestmarket.com
SUMMARY:Sea Bears Pre-Game Party
DESCRIPTION:
URL:https://www.hargravestmarket.com/event/sea-bears-pre-game-party-2/
LOCATION:True North Square Plaza\, 242 Hargrave St.\, Winnipeg\, Manitoba\, R3C0T8\, Canada
END:VEVENT
BEGIN:VEVENT
DTSTART;TZID=America/Winnipeg:20230615T190000
DTEND;TZID=America/Winnipeg:20230615T190000
DTSTAMP:20260424T111330
CREATED:20230418T164947Z
LAST-MODIFIED:20230512T210242Z
UID:1667-1686855600-1686855600@www.hargravestmarket.com
SUMMARY:Sea Bears vs. Honey Badgers
DESCRIPTION:
URL:https://www.hargravestmarket.com/event/sea-bears-vs-honey-badgers/
LOCATION:Canada Life Centre
END:VEVENT
BEGIN:VEVENT
DTSTART;TZID=America/Winnipeg:20230617T200000
DTEND;TZID=America/Winnipeg:20230617T200000
DTSTAMP:20260424T111330
CREATED:20230418T165216Z
LAST-MODIFIED:20230512T205542Z
UID:1669-1687032000-1687032000@www.hargravestmarket.com
SUMMARY:A Boogie Wit Da Hoodie
DESCRIPTION:
URL:https://www.hargravestmarket.com/event/a-boogie-wit-da-hoodie/
LOCATION:Canada Life Centre
END:VEVENT
BEGIN:VEVENT
DTSTART;TZID=America/Winnipeg:20230620T170000
DTEND;TZID=America/Winnipeg:20230620T190000
DTSTAMP:20260424T111330
CREATED:20230608T214209Z
LAST-MODIFIED:20230608T214209Z
UID:1847-1687280400-1687287600@www.hargravestmarket.com
SUMMARY:Little City Band
DESCRIPTION:
URL:https://www.hargravestmarket.com/event/little-city-band/
LOCATION:True North Square Plaza\, 242 Hargrave St.\, Winnipeg\, Manitoba\, R3C0T8\, Canada
END:VEVENT
BEGIN:VEVENT
DTSTART;TZID=America/Winnipeg:20230620T183000
DTEND;TZID=America/Winnipeg:20230620T183000
DTSTAMP:20260424T111330
CREATED:20230418T165303Z
LAST-MODIFIED:20230512T210210Z
UID:1671-1687285800-1687285800@www.hargravestmarket.com
SUMMARY:Nickelback Concert
DESCRIPTION:
URL:https://www.hargravestmarket.com/event/nickelback/
LOCATION:Canada Life Centre
END:VEVENT
BEGIN:VEVENT
DTSTART;TZID=America/Winnipeg:20230621T163000
DTEND;TZID=America/Winnipeg:20230621T163000
DTSTAMP:20260424T111330
CREATED:20230608T214303Z
LAST-MODIFIED:20230608T214303Z
UID:1849-1687365000-1687365000@www.hargravestmarket.com
SUMMARY:Sea Bears Pre-Game Party
DESCRIPTION:
URL:https://www.hargravestmarket.com/event/sea-bears-pre-game-party-3/
LOCATION:True North Square Plaza\, 242 Hargrave St.\, Winnipeg\, Manitoba\, R3C0T8\, Canada
END:VEVENT
BEGIN:VEVENT
DTSTART;TZID=America/Winnipeg:20230621T190000
DTEND;TZID=America/Winnipeg:20230621T190000
DTSTAMP:20260424T111330
CREATED:20230418T165403Z
LAST-MODIFIED:20230512T203337Z
UID:1674-1687374000-1687374000@www.hargravestmarket.com
SUMMARY:Sea Bears vs. Bandits
DESCRIPTION:
URL:https://www.hargravestmarket.com/event/sea-bears-vs-bandits/
LOCATION:Canada Life Centre
END:VEVENT
BEGIN:VEVENT
DTSTART;TZID=America/Winnipeg:20230622T170000
DTEND;TZID=America/Winnipeg:20230622T190000
DTSTAMP:20260424T111330
CREATED:20230608T214348Z
LAST-MODIFIED:20230608T214348Z
UID:1851-1687453200-1687460400@www.hargravestmarket.com
SUMMARY:Duelling Pianos
DESCRIPTION:
URL:https://www.hargravestmarket.com/event/duelling-pianos-3/
END:VEVENT
BEGIN:VEVENT
DTSTART;TZID=America/Winnipeg:20230623T190000
DTEND;TZID=America/Winnipeg:20230623T190000
DTSTAMP:20260424T111330
CREATED:20230418T165450Z
LAST-MODIFIED:20230512T201415Z
UID:1676-1687546800-1687546800@www.hargravestmarket.com
SUMMARY:Sea Bears vs. Rattlers
DESCRIPTION:
URL:https://www.hargravestmarket.com/event/sea-bears-vs-rattlers/
LOCATION:Canada Life Centre
END:VEVENT
BEGIN:VEVENT
DTSTART;TZID=America/Winnipeg:20230624T110000
DTEND;TZID=America/Winnipeg:20230624T170000
DTSTAMP:20260424T111330
CREATED:20230619T204641Z
LAST-MODIFIED:20230621T155942Z
UID:1890-1687604400-1687626000@www.hargravestmarket.com
SUMMARY:Modo Yoga in the Plaza
DESCRIPTION:
URL:https://www.hargravestmarket.com/event/modo-yoga-at-true-north-square/
LOCATION:True North Square Plaza\, 242 Hargrave St.\, Winnipeg\, Manitoba\, R3C0T8\, Canada
END:VEVENT
BEGIN:VEVENT
DTSTART;TZID=America/Winnipeg:20230627T170000
DTEND;TZID=America/Winnipeg:20230627T190000
DTSTAMP:20260424T111330
CREATED:20230616T193147Z
LAST-MODIFIED:20230616T193147Z
UID:1887-1687885200-1687892400@www.hargravestmarket.com
SUMMARY:Keith Macpherson
DESCRIPTION:
URL:https://www.hargravestmarket.com/event/keith-macpherson/
LOCATION:True North Square Plaza\, 242 Hargrave St.\, Winnipeg\, Manitoba\, R3C0T8\, Canada
END:VEVENT
BEGIN:VEVENT
DTSTART;TZID=America/Winnipeg:20230629T190000
DTEND;TZID=America/Winnipeg:20230629T190000
DTSTAMP:20260424T111330
CREATED:20230418T165527Z
LAST-MODIFIED:20230512T200202Z
UID:1678-1688065200-1688065200@www.hargravestmarket.com
SUMMARY:Sea Bears vs. River Lions
DESCRIPTION:
URL:https://www.hargravestmarket.com/event/sea-bears-vs-river-lions/
LOCATION:Canada Life Centre
END:VEVENT
END:VCALENDAR