BEGIN:VCALENDAR
VERSION:2.0
PRODID:-//Hargrave St. Market - ECPv6.15.7//NONSGML v1.0//EN
CALSCALE:GREGORIAN
METHOD:PUBLISH
X-ORIGINAL-URL:https://www.hargravestmarket.com
X-WR-CALDESC:Events for Hargrave St. Market
REFRESH-INTERVAL;VALUE=DURATION:PT1H
X-Robots-Tag:noindex
X-PUBLISHED-TTL:PT1H
BEGIN:VTIMEZONE
TZID:America/Winnipeg
BEGIN:DAYLIGHT
TZOFFSETFROM:-0600
TZOFFSETTO:-0500
TZNAME:CDT
DTSTART:20220313T080000
END:DAYLIGHT
BEGIN:STANDARD
TZOFFSETFROM:-0500
TZOFFSETTO:-0600
TZNAME:CST
DTSTART:20221106T070000
END:STANDARD
BEGIN:DAYLIGHT
TZOFFSETFROM:-0600
TZOFFSETTO:-0500
TZNAME:CDT
DTSTART:20230312T080000
END:DAYLIGHT
BEGIN:STANDARD
TZOFFSETFROM:-0500
TZOFFSETTO:-0600
TZNAME:CST
DTSTART:20231105T070000
END:STANDARD
BEGIN:DAYLIGHT
TZOFFSETFROM:-0600
TZOFFSETTO:-0500
TZNAME:CDT
DTSTART:20240310T080000
END:DAYLIGHT
BEGIN:STANDARD
TZOFFSETFROM:-0500
TZOFFSETTO:-0600
TZNAME:CST
DTSTART:20241103T070000
END:STANDARD
END:VTIMEZONE
BEGIN:VEVENT
DTSTART;TZID=America/Winnipeg:20230505T190000
DTEND;TZID=America/Winnipeg:20230505T190000
DTSTAMP:20260424T093215
CREATED:20230418T162813Z
LAST-MODIFIED:20230418T162813Z
UID:1648-1683313200-1683313200@www.hargravestmarket.com
SUMMARY:Megadeth
DESCRIPTION:
URL:https://www.hargravestmarket.com/event/megadeth/
END:VEVENT
BEGIN:VEVENT
DTSTART;TZID=America/Winnipeg:20230508T200000
DTEND;TZID=America/Winnipeg:20230508T200000
DTSTAMP:20260424T093215
CREATED:20230418T162850Z
LAST-MODIFIED:20230418T162850Z
UID:1650-1683576000-1683576000@www.hargravestmarket.com
SUMMARY:Disturbed
DESCRIPTION:
URL:https://www.hargravestmarket.com/event/disturbed/
END:VEVENT
BEGIN:VEVENT
DTSTART;TZID=America/Winnipeg:20230510T190000
DTEND;TZID=America/Winnipeg:20230510T190000
DTSTAMP:20260424T093215
CREATED:20230418T162923Z
LAST-MODIFIED:20230418T162923Z
UID:1652-1683745200-1683745200@www.hargravestmarket.com
SUMMARY:Stars on Ice
DESCRIPTION:
URL:https://www.hargravestmarket.com/event/stars-on-ice/
END:VEVENT
BEGIN:VEVENT
DTSTART;TZID=America/Winnipeg:20230513T150000
DTEND;TZID=America/Winnipeg:20230513T170000
DTSTAMP:20260424T093215
CREATED:20230203T165007Z
LAST-MODIFIED:20230512T210605Z
UID:1611-1683990000-1683997200@www.hargravestmarket.com
SUMMARY:Wacky Doodle Dance Party
DESCRIPTION:
URL:https://www.hargravestmarket.com/event/wacky-doodle-dance-party-4/
LOCATION:Hargrave St. Market\, 242 Hargrave Street\, Winnipeg\, Manitoba\, Canada
END:VEVENT
BEGIN:VEVENT
DTSTART;TZID=America/Winnipeg:20230514T100000
DTEND;TZID=America/Winnipeg:20230514T183000
DTSTAMP:20260424T093215
CREATED:20230512T210649Z
LAST-MODIFIED:20230512T211713Z
UID:1770-1684058400-1684089000@www.hargravestmarket.com
SUMMARY:Mothers Day Brunch x Pre-Shania Twain Party
DESCRIPTION:For more information visit us on Instagram @hargravestmarket
URL:https://www.hargravestmarket.com/event/mothers-day-brunch-x-pre-shania-twain-party/
LOCATION:Hargrave St. Market\, 242 Hargrave Street\, Winnipeg\, Manitoba\, Canada
END:VEVENT
BEGIN:VEVENT
DTSTART;TZID=America/Winnipeg:20230514T193000
DTEND;TZID=America/Winnipeg:20230514T193000
DTSTAMP:20260424T093215
CREATED:20230418T163001Z
LAST-MODIFIED:20230512T210542Z
UID:1654-1684092600-1684092600@www.hargravestmarket.com
SUMMARY:Shania Twain Concert
DESCRIPTION:
URL:https://www.hargravestmarket.com/event/shania-twain-concert/
LOCATION:Canada Life Centre
END:VEVENT
BEGIN:VEVENT
DTSTART;TZID=America/Winnipeg:20230515T120000
DTEND;TZID=America/Winnipeg:20230515T133000
DTSTAMP:20260424T093215
CREATED:20230512T210826Z
LAST-MODIFIED:20230512T210826Z
UID:1772-1684152000-1684157400@www.hargravestmarket.com
SUMMARY:Back Downtown Spirit Week - Games in the True North Square Plaza
DESCRIPTION:
URL:https://www.hargravestmarket.com/event/back-downtown-spirit-week-games-in-the-true-north-square-plaza/
LOCATION:True North Square Plaza\, 242 Hargrave St.\, Winnipeg\, Manitoba\, R3C0T8\, Canada
END:VEVENT
BEGIN:VEVENT
DTSTART;TZID=America/Winnipeg:20230517T080000
DTEND;TZID=America/Winnipeg:20230517T090000
DTSTAMP:20260424T093215
CREATED:20230512T211021Z
LAST-MODIFIED:20230512T211041Z
UID:1774-1684310400-1684314000@www.hargravestmarket.com
SUMMARY:Back Downtown Spirit Week - Modo Yoga in the True North Square Plaza
DESCRIPTION:Please bring a yoga mat to participate!
URL:https://www.hargravestmarket.com/event/back-downtown-spirit-week-modo-yoga-in-the-true-north-square-plaza/
LOCATION:True North Square Plaza\, 242 Hargrave St.\, Winnipeg\, Manitoba\, R3C0T8\, Canada
END:VEVENT
BEGIN:VEVENT
DTSTART;TZID=America/Winnipeg:20230517T170000
DTEND;TZID=America/Winnipeg:20230517T180000
DTSTAMP:20260424T093215
CREATED:20230512T211133Z
LAST-MODIFIED:20230512T211133Z
UID:1777-1684342800-1684346400@www.hargravestmarket.com
SUMMARY:Back Downtown Spirit Week - Fitness Class in the True North Square Plaza
DESCRIPTION:Please bring your own yoga mat to participate!
URL:https://www.hargravestmarket.com/event/back-downtown-spirit-week-fitness-class-in-the-true-north-square-plaza/
LOCATION:True North Square Plaza\, 242 Hargrave St.\, Winnipeg\, Manitoba\, R3C0T8\, Canada
END:VEVENT
BEGIN:VEVENT
DTSTART;TZID=America/Winnipeg:20230518T120000
DTEND;TZID=America/Winnipeg:20230518T133000
DTSTAMP:20260424T093215
CREATED:20230512T211345Z
LAST-MODIFIED:20230512T211345Z
UID:1779-1684411200-1684416600@www.hargravestmarket.com
SUMMARY:Back Downtown Spirit Week - Winnipeg Humane Society in the True North Square Plaza (weather permitting)
DESCRIPTION:Stop by the True North Square Plaza to visit some puppies/dogs!
URL:https://www.hargravestmarket.com/event/back-downtown-spirit-week-winnipeg-humane-society-in-the-true-north-square-plaza-weather-permitting/
LOCATION:True North Square Plaza\, 242 Hargrave St.\, Winnipeg\, Manitoba\, R3C0T8\, Canada
END:VEVENT
BEGIN:VEVENT
DTSTART;TZID=America/Winnipeg:20230519T160000
DTEND;TZID=America/Winnipeg:20230519T190000
DTSTAMP:20260424T093215
CREATED:20230512T211535Z
LAST-MODIFIED:20230517T204604Z
UID:1781-1684512000-1684522800@www.hargravestmarket.com
SUMMARY:Back Downtown Spirit Week - Duelling Pianos in Hargrave St. Market
DESCRIPTION:The Duelling Pianos will be playing in Hargrave St. Market and there will be an extended happy hour at Rose Bar from 12:00pm to 7:00pm.
URL:https://www.hargravestmarket.com/event/back-downtown-spirit-week-duelling-pianos-in-hargrave-st-market/
LOCATION:Hargrave St. Market\, 242 Hargrave Street\, Winnipeg\, Manitoba\, Canada
END:VEVENT
BEGIN:VEVENT
DTSTART;TZID=America/Winnipeg:20230526T140000
DTEND;TZID=America/Winnipeg:20230526T180000
DTSTAMP:20260424T093215
CREATED:20230516T183209Z
LAST-MODIFIED:20230516T183209Z
UID:1785-1685109600-1685124000@www.hargravestmarket.com
SUMMARY:Energy 106 Live Broadcast
DESCRIPTION:
URL:https://www.hargravestmarket.com/event/energy-106-live-broadcast/
LOCATION:Hargrave St. Market\, 242 Hargrave Street\, Winnipeg\, Manitoba\, Canada
END:VEVENT
BEGIN:VEVENT
DTSTART;TZID=America/Winnipeg:20230527T190000
DTEND;TZID=America/Winnipeg:20230527T190000
DTSTAMP:20260424T093215
CREATED:20230418T163049Z
LAST-MODIFIED:20230512T210516Z
UID:1656-1685214000-1685214000@www.hargravestmarket.com
SUMMARY:Sea Bears vs. Bandits - Home Opener!
DESCRIPTION:
URL:https://www.hargravestmarket.com/event/energy-106-live-broadcast-in-hargrave-st-market/
LOCATION:Canada Life Centre
END:VEVENT
END:VCALENDAR