BEGIN:VCALENDAR
VERSION:2.0
PRODID:-//Hargrave St. Market - ECPv6.15.7//NONSGML v1.0//EN
CALSCALE:GREGORIAN
METHOD:PUBLISH
X-WR-CALNAME:Hargrave St. Market
X-ORIGINAL-URL:https://www.hargravestmarket.com
X-WR-CALDESC:Events for Hargrave St. Market
REFRESH-INTERVAL;VALUE=DURATION:PT1H
X-Robots-Tag:noindex
X-PUBLISHED-TTL:PT1H
BEGIN:VTIMEZONE
TZID:America/Winnipeg
BEGIN:DAYLIGHT
TZOFFSETFROM:-0600
TZOFFSETTO:-0500
TZNAME:CDT
DTSTART:20230312T080000
END:DAYLIGHT
BEGIN:STANDARD
TZOFFSETFROM:-0500
TZOFFSETTO:-0600
TZNAME:CST
DTSTART:20231105T070000
END:STANDARD
BEGIN:DAYLIGHT
TZOFFSETFROM:-0600
TZOFFSETTO:-0500
TZNAME:CDT
DTSTART:20240310T080000
END:DAYLIGHT
BEGIN:STANDARD
TZOFFSETFROM:-0500
TZOFFSETTO:-0600
TZNAME:CST
DTSTART:20241103T070000
END:STANDARD
BEGIN:DAYLIGHT
TZOFFSETFROM:-0600
TZOFFSETTO:-0500
TZNAME:CDT
DTSTART:20250309T080000
END:DAYLIGHT
BEGIN:STANDARD
TZOFFSETFROM:-0500
TZOFFSETTO:-0600
TZNAME:CST
DTSTART:20251102T070000
END:STANDARD
END:VTIMEZONE
BEGIN:VEVENT
DTSTART;TZID=America/Winnipeg:20240720T110000
DTEND;TZID=America/Winnipeg:20240720T114500
DTSTAMP:20260425T160406
CREATED:20240516T173227Z
LAST-MODIFIED:20240516T173227Z
UID:2341-1721473200-1721475900@www.hargravestmarket.com
SUMMARY:MODO Yoga in the Plaza
DESCRIPTION:
URL:https://www.hargravestmarket.com/event/modo-yoga-in-the-plaza-9/
LOCATION:True North Square Plaza\, 242 Hargrave St.\, Winnipeg\, Manitoba\, R3C0T8\, Canada
END:VEVENT
BEGIN:VEVENT
DTSTART;TZID=America/Winnipeg:20240720T163000
DTEND;TZID=America/Winnipeg:20240720T183000
DTSTAMP:20260425T160406
CREATED:20240516T162037Z
LAST-MODIFIED:20240516T162037Z
UID:2321-1721493000-1721500200@www.hargravestmarket.com
SUMMARY:Who's Got Next - MNP Pre-Game Party
DESCRIPTION:
URL:https://www.hargravestmarket.com/event/whos-got-next-mnp-pre-game-party-9/
LOCATION:True North Square Plaza\, 242 Hargrave St.\, Winnipeg\, Manitoba\, R3C0T8\, Canada
END:VEVENT
BEGIN:VEVENT
DTSTART;TZID=America/Winnipeg:20240720T193000
DTEND;TZID=America/Winnipeg:20240720T193000
DTSTAMP:20260425T160406
CREATED:20240422T155759Z
LAST-MODIFIED:20240422T155759Z
UID:2294-1721503800-1721503800@www.hargravestmarket.com
SUMMARY:Sea Bears vs. Rattlers
DESCRIPTION:
URL:https://www.hargravestmarket.com/event/sea-bears-vs-rattlers-3/
LOCATION:Canada Life Centre
END:VEVENT
END:VCALENDAR