BEGIN:VCALENDAR
VERSION:2.0
PRODID:-//Hargrave St. Market - ECPv6.15.7//NONSGML v1.0//EN
CALSCALE:GREGORIAN
METHOD:PUBLISH
X-WR-CALNAME:Hargrave St. Market
X-ORIGINAL-URL:https://www.hargravestmarket.com
X-WR-CALDESC:Events for Hargrave St. Market
REFRESH-INTERVAL;VALUE=DURATION:PT1H
X-Robots-Tag:noindex
X-PUBLISHED-TTL:PT1H
BEGIN:VTIMEZONE
TZID:America/Winnipeg
BEGIN:DAYLIGHT
TZOFFSETFROM:-0600
TZOFFSETTO:-0500
TZNAME:CDT
DTSTART:20210314T080000
END:DAYLIGHT
BEGIN:STANDARD
TZOFFSETFROM:-0500
TZOFFSETTO:-0600
TZNAME:CST
DTSTART:20211107T070000
END:STANDARD
BEGIN:DAYLIGHT
TZOFFSETFROM:-0600
TZOFFSETTO:-0500
TZNAME:CDT
DTSTART:20220313T080000
END:DAYLIGHT
BEGIN:STANDARD
TZOFFSETFROM:-0500
TZOFFSETTO:-0600
TZNAME:CST
DTSTART:20221106T070000
END:STANDARD
BEGIN:DAYLIGHT
TZOFFSETFROM:-0600
TZOFFSETTO:-0500
TZNAME:CDT
DTSTART:20230312T080000
END:DAYLIGHT
BEGIN:STANDARD
TZOFFSETFROM:-0500
TZOFFSETTO:-0600
TZNAME:CST
DTSTART:20231105T070000
END:STANDARD
END:VTIMEZONE
BEGIN:VEVENT
DTSTART;TZID=America/Winnipeg:20220401T170000
DTEND;TZID=America/Winnipeg:20220401T180000
DTSTAMP:20260425T102435
CREATED:20220321T192343Z
LAST-MODIFIED:20220321T192343Z
UID:1375-1648832400-1648836000@www.hargravestmarket.com
SUMMARY:Winterruption: Andino Suns
DESCRIPTION:Winterruption presented by West End Cultural Centre \nNo Cover
URL:https://www.hargravestmarket.com/event/winterruption-andino-suns/
END:VEVENT
BEGIN:VEVENT
DTSTART;TZID=America/Winnipeg:20220401T180000
DTEND;TZID=America/Winnipeg:20220401T190000
DTSTAMP:20260425T102435
CREATED:20220321T192450Z
LAST-MODIFIED:20220321T192450Z
UID:1377-1648836000-1648839600@www.hargravestmarket.com
SUMMARY:Winterruption: El Leon and the Strangers
DESCRIPTION:Winterruption presented by West End Cultural Centre \nNo Cover
URL:https://www.hargravestmarket.com/event/winterruption-el-leon-and-the-strangers/
END:VEVENT
END:VCALENDAR